BEGIN:VCALENDAR
VERSION:2.0
PRODID:-//FBC Crystal Springs - ECPv6.15.17.1//NONSGML v1.0//EN
CALSCALE:GREGORIAN
METHOD:PUBLISH
X-WR-CALNAME:FBC Crystal Springs
X-ORIGINAL-URL:https://fbccrystalsprings.com
X-WR-CALDESC:Events for FBC Crystal Springs
REFRESH-INTERVAL;VALUE=DURATION:PT1H
X-Robots-Tag:noindex
X-PUBLISHED-TTL:PT1H
BEGIN:VTIMEZONE
TZID:America/Chicago
BEGIN:DAYLIGHT
TZOFFSETFROM:-0600
TZOFFSETTO:-0500
TZNAME:CDT
DTSTART:20240310T080000
END:DAYLIGHT
BEGIN:STANDARD
TZOFFSETFROM:-0500
TZOFFSETTO:-0600
TZNAME:CST
DTSTART:20241103T070000
END:STANDARD
BEGIN:DAYLIGHT
TZOFFSETFROM:-0600
TZOFFSETTO:-0500
TZNAME:CDT
DTSTART:20250309T080000
END:DAYLIGHT
BEGIN:STANDARD
TZOFFSETFROM:-0500
TZOFFSETTO:-0600
TZNAME:CST
DTSTART:20251102T070000
END:STANDARD
BEGIN:DAYLIGHT
TZOFFSETFROM:-0600
TZOFFSETTO:-0500
TZNAME:CDT
DTSTART:20260308T080000
END:DAYLIGHT
BEGIN:STANDARD
TZOFFSETFROM:-0500
TZOFFSETTO:-0600
TZNAME:CST
DTSTART:20261101T070000
END:STANDARD
END:VTIMEZONE
BEGIN:VTIMEZONE
TZID:UTC
BEGIN:STANDARD
TZOFFSETFROM:+0000
TZOFFSETTO:+0000
TZNAME:UTC
DTSTART:20230101T000000
END:STANDARD
END:VTIMEZONE
BEGIN:VEVENT
DTSTART;TZID=America/Chicago:20250114T180000
DTEND;TZID=America/Chicago:20250114T200000
DTSTAMP:20260423T135758
CREATED:20250109T210845Z
LAST-MODIFIED:20250109T210958Z
UID:4576-1736877600-1736884800@fbccrystalsprings.com
SUMMARY:Celebrate Recovery
DESCRIPTION:Come join us at Celebrate Recovery at First Baptist Church of Crystal Springs! Everyone is welcome! Meetings are held every Tuesday Night from 5:50 P.M. until 8:00 P.M. located in the ROC. \nStarting at 5:50 P.M. we will have a supper followed by large group worship time at 6:30 to 7:00 and small groups starting at 7:00 to 8:00.
URL:https://fbccrystalsprings.com/event-old/celebrate-recovery/
LOCATION:The ROC
END:VEVENT
BEGIN:VEVENT
DTSTART;VALUE=DATE:20241025
DTEND;VALUE=DATE:20241026
DTSTAMP:20260423T135758
CREATED:20240929T150225Z
LAST-MODIFIED:20240929T150225Z
UID:4449-1729814400-1729900799@fbccrystalsprings.com
SUMMARY:Happy Birthday David Henderson!
DESCRIPTION:
URL:https://fbccrystalsprings.com/event-old/happy-birthday-david-henderson/
END:VEVENT
BEGIN:VEVENT
DTSTART;TZID=UTC:20241020T150000
DTEND;TZID=UTC:20241020T160000
DTSTAMP:20260423T135758
CREATED:20240929T150125Z
LAST-MODIFIED:20240929T150125Z
UID:4446-1729436400-1729440000@fbccrystalsprings.com
SUMMARY:Missions Paint Party Fundraiser
DESCRIPTION:
URL:https://fbccrystalsprings.com/event-old/missions-paint-party-fundraiser/
END:VEVENT
BEGIN:VEVENT
DTSTART;VALUE=DATE:20241020
DTEND;VALUE=DATE:20241021
DTSTAMP:20260423T135758
CREATED:20240929T150045Z
LAST-MODIFIED:20240929T150045Z
UID:4444-1729382400-1729468799@fbccrystalsprings.com
SUMMARY:Youth Fundraiser Luncheon
DESCRIPTION:
URL:https://fbccrystalsprings.com/event-old/youth-fundraiser-luncheon-5/
END:VEVENT
BEGIN:VEVENT
DTSTART;VALUE=DATE:20241019
DTEND;VALUE=DATE:20241020
DTSTAMP:20260423T135758
CREATED:20240929T145913Z
LAST-MODIFIED:20240929T145913Z
UID:4442-1729296000-1729382399@fbccrystalsprings.com
SUMMARY:ROC Reserved
DESCRIPTION:
URL:https://fbccrystalsprings.com/event-old/roc-reserved-19/
END:VEVENT
BEGIN:VEVENT
DTSTART;VALUE=DATE:20241014
DTEND;VALUE=DATE:20241015
DTSTAMP:20260423T135758
CREATED:20240929T145816Z
LAST-MODIFIED:20240929T145816Z
UID:4440-1728864000-1728950399@fbccrystalsprings.com
SUMMARY:FBCK Closed for Holiday
DESCRIPTION:
URL:https://fbccrystalsprings.com/event-old/fbck-closed-for-holiday/
END:VEVENT
BEGIN:VEVENT
DTSTART;TZID=UTC:20241013T073000
DTEND;TZID=UTC:20241013T083000
DTSTAMP:20260423T135758
CREATED:20240929T145738Z
LAST-MODIFIED:20240929T145738Z
UID:4438-1728804600-1728808200@fbccrystalsprings.com
SUMMARY:Men's Breakfast
DESCRIPTION:
URL:https://fbccrystalsprings.com/event-old/mens-breakfast-10/
END:VEVENT
BEGIN:VEVENT
DTSTART;TZID=UTC:20241007T183000
DTEND;TZID=UTC:20241007T193000
DTSTAMP:20260423T135758
CREATED:20240929T145646Z
LAST-MODIFIED:20240929T145646Z
UID:4436-1728325800-1728329400@fbccrystalsprings.com
SUMMARY:Missions in Motion
DESCRIPTION:
URL:https://fbccrystalsprings.com/event-old/missions-in-motion-5/
END:VEVENT
BEGIN:VEVENT
DTSTART;VALUE=DATE:20241005
DTEND;VALUE=DATE:20241006
DTSTAMP:20260423T135758
CREATED:20240929T145353Z
LAST-MODIFIED:20240929T145353Z
UID:4432-1728086400-1728172799@fbccrystalsprings.com
SUMMARY:Happy Anniversary Jennifer Benton!
DESCRIPTION:
URL:https://fbccrystalsprings.com/event-old/happy-anniversary-jennifer-benton/
END:VEVENT
BEGIN:VEVENT
DTSTART;TZID=UTC:20241002T180000
DTEND;TZID=UTC:20241002T200000
DTSTAMP:20260423T135758
CREATED:20240929T145518Z
LAST-MODIFIED:20240929T145518Z
UID:4434-1727892000-1727899200@fbccrystalsprings.com
SUMMARY:Fall Festival
DESCRIPTION:
URL:https://fbccrystalsprings.com/event-old/fall-festival/
LOCATION:The ROC
END:VEVENT
BEGIN:VEVENT
DTSTART;VALUE=DATE:20241002
DTEND;VALUE=DATE:20241003
DTSTAMP:20260423T135758
CREATED:20240929T145209Z
LAST-MODIFIED:20240929T145209Z
UID:4430-1727827200-1727913599@fbccrystalsprings.com
SUMMARY:Happy Anniversary Kenneth Jolly!
DESCRIPTION:
URL:https://fbccrystalsprings.com/event-old/happy-anniversary-kenneth-jolly/
END:VEVENT
BEGIN:VEVENT
DTSTART;VALUE=DATE:20240629
DTEND;VALUE=DATE:20240630
DTSTAMP:20260423T135758
CREATED:20240531T221400Z
LAST-MODIFIED:20240531T221400Z
UID:4351-1719619200-1719705599@fbccrystalsprings.com
SUMMARY:ROC Reserved
DESCRIPTION:
URL:https://fbccrystalsprings.com/event-old/roc-reserved-18/
END:VEVENT
BEGIN:VEVENT
DTSTART;TZID=UTC:20240627T180000
DTEND;TZID=UTC:20240627T200000
DTSTAMP:20260423T135758
CREATED:20240531T221323Z
LAST-MODIFIED:20240531T221323Z
UID:4349-1719511200-1719518400@fbccrystalsprings.com
SUMMARY:Feed the Soldiers
DESCRIPTION:Located in the ROC
URL:https://fbccrystalsprings.com/event-old/feed-the-soldiers/
END:VEVENT
BEGIN:VEVENT
DTSTART;VALUE=DATE:20240624
DTEND;VALUE=DATE:20240625
DTSTAMP:20260423T135758
CREATED:20240531T221149Z
LAST-MODIFIED:20240531T221149Z
UID:4347-1719187200-1719273599@fbccrystalsprings.com
SUMMARY:Monday Night Live: New Zion
DESCRIPTION:
URL:https://fbccrystalsprings.com/event-old/monday-night-live-new-zion/
END:VEVENT
BEGIN:VEVENT
DTSTART;VALUE=DATE:20240624
DTEND;VALUE=DATE:20240629
DTSTAMP:20260423T135758
CREATED:20240426T124018Z
LAST-MODIFIED:20240426T124018Z
UID:4286-1719187200-1719619199@fbccrystalsprings.com
SUMMARY:Youth Summer Camp
DESCRIPTION:Sign up through the church office or see brother Landon Smith \nIf you have not yet made your complete payment\, please contact Brother Landon Smith
URL:https://fbccrystalsprings.com/event-old/youth-summer-camp/
END:VEVENT
BEGIN:VEVENT
DTSTART;VALUE=DATE:20240623
DTEND;VALUE=DATE:20240624
DTSTAMP:20260423T135758
CREATED:20240531T221027Z
LAST-MODIFIED:20240531T221027Z
UID:4345-1719100800-1719187199@fbccrystalsprings.com
SUMMARY:Children's Fundraiser Luncheon
DESCRIPTION:
URL:https://fbccrystalsprings.com/event-old/childrens-fundraiser-luncheon/
END:VEVENT
BEGIN:VEVENT
DTSTART;TZID=UTC:20240621T083000
DTEND;TZID=UTC:20240621T120000
DTSTAMP:20260423T135758
CREATED:20240426T123633Z
LAST-MODIFIED:20240426T123633Z
UID:4278-1718958600-1718971200@fbccrystalsprings.com
SUMMARY:VBS!
DESCRIPTION:Volunteers Needed \nSign-Up in the ROC
URL:https://fbccrystalsprings.com/event-old/vbs-5/
END:VEVENT
BEGIN:VEVENT
DTSTART;TZID=UTC:20240620T083000
DTEND;TZID=UTC:20240620T120000
DTSTAMP:20260423T135758
CREATED:20240426T123554Z
LAST-MODIFIED:20240426T123554Z
UID:4276-1718872200-1718884800@fbccrystalsprings.com
SUMMARY:VBS!
DESCRIPTION:Volunteers Needed \nSign-Up in the ROC
URL:https://fbccrystalsprings.com/event-old/vbs-4/
END:VEVENT
BEGIN:VEVENT
DTSTART;TZID=UTC:20240619T083000
DTEND;TZID=UTC:20240619T120000
DTSTAMP:20260423T135758
CREATED:20240426T123522Z
LAST-MODIFIED:20240426T123522Z
UID:4274-1718785800-1718798400@fbccrystalsprings.com
SUMMARY:VBS!
DESCRIPTION:Volunteers Needed \nSign-Up in the ROC
URL:https://fbccrystalsprings.com/event-old/vbs-3/
END:VEVENT
BEGIN:VEVENT
DTSTART;VALUE=DATE:20240619
DTEND;VALUE=DATE:20240620
DTSTAMP:20260423T135758
CREATED:20240531T220933Z
LAST-MODIFIED:20240531T220933Z
UID:4343-1718755200-1718841599@fbccrystalsprings.com
SUMMARY:NO SONKids
DESCRIPTION:
URL:https://fbccrystalsprings.com/event-old/no-sonkids-2/
END:VEVENT
BEGIN:VEVENT
DTSTART;TZID=UTC:20240618T083000
DTEND;TZID=UTC:20240618T120000
DTSTAMP:20260423T135758
CREATED:20240426T123425Z
LAST-MODIFIED:20240426T123425Z
UID:4272-1718699400-1718712000@fbccrystalsprings.com
SUMMARY:VBS!
DESCRIPTION:Volunteers Needed \nSign-Up in the ROC
URL:https://fbccrystalsprings.com/event-old/vbs-2/
END:VEVENT
BEGIN:VEVENT
DTSTART;TZID=UTC:20240617T083000
DTEND;TZID=UTC:20240617T120000
DTSTAMP:20260423T135758
CREATED:20240426T123319Z
LAST-MODIFIED:20240426T123356Z
UID:4269-1718613000-1718625600@fbccrystalsprings.com
SUMMARY:VBS!
DESCRIPTION:Volunteers Needed \nSign-Up in the ROC
URL:https://fbccrystalsprings.com/event-old/vbs/
END:VEVENT
BEGIN:VEVENT
DTSTART;VALUE=DATE:20240617
DTEND;VALUE=DATE:20240618
DTSTAMP:20260423T135758
CREATED:20240531T220854Z
LAST-MODIFIED:20240531T220854Z
UID:4341-1718582400-1718668799@fbccrystalsprings.com
SUMMARY:Monday Night Live: Wesson
DESCRIPTION:
URL:https://fbccrystalsprings.com/event-old/monday-night-live-wesson/
END:VEVENT
BEGIN:VEVENT
DTSTART;TZID=UTC:20240616T103000
DTEND;TZID=UTC:20240616T120000
DTSTAMP:20260423T135758
CREATED:20240426T124139Z
LAST-MODIFIED:20240426T124139Z
UID:4290-1718533800-1718539200@fbccrystalsprings.com
SUMMARY:Baby Dedication
DESCRIPTION:
URL:https://fbccrystalsprings.com/event-old/baby-dedication/
END:VEVENT
BEGIN:VEVENT
DTSTART;VALUE=DATE:20240616
DTEND;VALUE=DATE:20240617
DTSTAMP:20260423T135758
CREATED:20240531T220756Z
LAST-MODIFIED:20240531T220756Z
UID:4339-1718496000-1718582399@fbccrystalsprings.com
SUMMARY:Father's Day
DESCRIPTION:
URL:https://fbccrystalsprings.com/event-old/fathers-day-2/
END:VEVENT
BEGIN:VEVENT
DTSTART;TZID=UTC:20240612T080000
DTEND;TZID=UTC:20240612T170000
DTSTAMP:20260423T135758
CREATED:20240531T220709Z
LAST-MODIFIED:20240531T220709Z
UID:4337-1718179200-1718211600@fbccrystalsprings.com
SUMMARY:NO SONKids
DESCRIPTION:
URL:https://fbccrystalsprings.com/event-old/no-sonkids/
END:VEVENT
BEGIN:VEVENT
DTSTART;VALUE=DATE:20240610
DTEND;VALUE=DATE:20240611
DTSTAMP:20260423T135758
CREATED:20240531T220632Z
LAST-MODIFIED:20240531T220632Z
UID:4335-1717977600-1718063999@fbccrystalsprings.com
SUMMARY:Monday Night Live: Hopewell
DESCRIPTION:
URL:https://fbccrystalsprings.com/event-old/monday-night-live-hopewell/
END:VEVENT
BEGIN:VEVENT
DTSTART;VALUE=DATE:20240608
DTEND;VALUE=DATE:20240616
DTSTAMP:20260423T135758
CREATED:20240426T124250Z
LAST-MODIFIED:20240429T193729Z
UID:4292-1717804800-1718495999@fbccrystalsprings.com
SUMMARY:Tennessee Mission Trip 2024
DESCRIPTION:
URL:https://fbccrystalsprings.com/event-old/tennessee-mission-trip-2024/
END:VEVENT
BEGIN:VEVENT
DTSTART;TZID=UTC:20240605T180000
DTEND;TZID=UTC:20240605T200000
DTSTAMP:20260423T135758
CREATED:20240531T220538Z
LAST-MODIFIED:20240531T220538Z
UID:4333-1717610400-1717617600@fbccrystalsprings.com
SUMMARY:SONKids Summer Nights
DESCRIPTION:Begins at 6pm!
URL:https://fbccrystalsprings.com/event-old/sonkids-summer-nights/
END:VEVENT
BEGIN:VEVENT
DTSTART;VALUE=DATE:20240603
DTEND;VALUE=DATE:20240604
DTSTAMP:20260423T135758
CREATED:20240531T220430Z
LAST-MODIFIED:20240531T220430Z
UID:4331-1717372800-1717459199@fbccrystalsprings.com
SUMMARY:Monday Night Live: Highland
DESCRIPTION:
URL:https://fbccrystalsprings.com/event-old/monday-night-live-highland/
END:VEVENT
END:VCALENDAR