BEGIN:VCALENDAR
VERSION:2.0
PRODID:-//FBC Crystal Springs - ECPv6.15.17.1//NONSGML v1.0//EN
CALSCALE:GREGORIAN
METHOD:PUBLISH
X-WR-CALNAME:FBC Crystal Springs
X-ORIGINAL-URL:https://fbccrystalsprings.com
X-WR-CALDESC:Events for FBC Crystal Springs
REFRESH-INTERVAL;VALUE=DURATION:PT1H
X-Robots-Tag:noindex
X-PUBLISHED-TTL:PT1H
BEGIN:VTIMEZONE
TZID:UTC
BEGIN:STANDARD
TZOFFSETFROM:+0000
TZOFFSETTO:+0000
TZNAME:UTC
DTSTART:20220101T000000
END:STANDARD
END:VTIMEZONE
BEGIN:VEVENT
DTSTART;TZID=UTC:20230406T190000
DTEND;TZID=UTC:20230406T200000
DTSTAMP:20260424T050029
CREATED:20230219T213238Z
LAST-MODIFIED:20230219T213238Z
UID:3421-1680807600-1680811200@fbccrystalsprings.com
SUMMARY:WMU Spring Meeting
DESCRIPTION:Master’s House
URL:https://fbccrystalsprings.com/event-old/wmu-spring-meeting/
END:VEVENT
BEGIN:VEVENT
DTSTART;TZID=UTC:20230403T183000
DTEND;TZID=UTC:20230403T193000
DTSTAMP:20260424T050029
CREATED:20230219T212914Z
LAST-MODIFIED:20230219T212914Z
UID:3415-1680546600-1680550200@fbccrystalsprings.com
SUMMARY:Missions in Motion\, ROC
DESCRIPTION:
URL:https://fbccrystalsprings.com/event-old/missions-in-motion-roc/
END:VEVENT
BEGIN:VEVENT
DTSTART;VALUE=DATE:20230402
DTEND;VALUE=DATE:20230403
DTSTAMP:20260424T050029
CREATED:20230219T211916Z
LAST-MODIFIED:20230219T211916Z
UID:3398-1680393600-1680479999@fbccrystalsprings.com
SUMMARY:Palm Sunday
DESCRIPTION:
URL:https://fbccrystalsprings.com/event-old/palm-sunday/
END:VEVENT
BEGIN:VEVENT
DTSTART;TZID=UTC:20230331T190000
DTEND;TZID=UTC:20230331T200000
DTSTAMP:20260424T050029
CREATED:20230219T211544Z
LAST-MODIFIED:20230219T211544Z
UID:3394-1680289200-1680292800@fbccrystalsprings.com
SUMMARY:SAVE THE DATE - Grand Night
DESCRIPTION:FBC CS Sanctuary
URL:https://fbccrystalsprings.com/event-old/save-the-date-grand-night/
END:VEVENT
BEGIN:VEVENT
DTSTART;VALUE=DATE:20230331
DTEND;VALUE=DATE:20230403
DTSTAMP:20260424T050029
CREATED:20230219T211326Z
LAST-MODIFIED:20230219T211326Z
UID:3391-1680220800-1680479999@fbccrystalsprings.com
SUMMARY:Powered Up Weekend
DESCRIPTION:
URL:https://fbccrystalsprings.com/event-old/powered-up-weekend/
END:VEVENT
BEGIN:VEVENT
DTSTART;TZID=UTC:20230329T180000
DTEND;TZID=UTC:20230329T190000
DTSTAMP:20260424T050029
CREATED:20230323T173418Z
LAST-MODIFIED:20230323T173418Z
UID:3471-1680112800-1680116400@fbccrystalsprings.com
SUMMARY:Business Meeting
DESCRIPTION:Music Suite
URL:https://fbccrystalsprings.com/event-old/business-meeting-3/
END:VEVENT
BEGIN:VEVENT
DTSTART;TZID=UTC:20230325T140000
DTEND;TZID=UTC:20230325T160000
DTSTAMP:20260424T050029
CREATED:20230219T211043Z
LAST-MODIFIED:20230219T211043Z
UID:3387-1679752800-1679760000@fbccrystalsprings.com
SUMMARY:Children's Easter Celebration
DESCRIPTION:
URL:https://fbccrystalsprings.com/event-old/childrens-easter-celebration/
END:VEVENT
BEGIN:VEVENT
DTSTART;VALUE=DATE:20230325
DTEND;VALUE=DATE:20230326
DTSTAMP:20260424T050029
CREATED:20230219T210951Z
LAST-MODIFIED:20230219T210951Z
UID:3383-1679702400-1679788799@fbccrystalsprings.com
SUMMARY:Donations & Volunteers
DESCRIPTION:
URL:https://fbccrystalsprings.com/event-old/donations-volunteers/
END:VEVENT
BEGIN:VEVENT
DTSTART;VALUE=DATE:20230323
DTEND;VALUE=DATE:20230324
DTSTAMP:20260424T050029
CREATED:20230222T233022Z
LAST-MODIFIED:20230222T233022Z
UID:3445-1679529600-1679615999@fbccrystalsprings.com
SUMMARY:Senior Adults to Co-Lin for 50+
DESCRIPTION:
URL:https://fbccrystalsprings.com/event-old/senior-adults-to-co-lin-for-50-3/
END:VEVENT
BEGIN:VEVENT
DTSTART;VALUE=DATE:20230319
DTEND;VALUE=DATE:20230320
DTSTAMP:20260424T050029
CREATED:20230219T212837Z
LAST-MODIFIED:20230219T212837Z
UID:3413-1679184000-1679270399@fbccrystalsprings.com
SUMMARY:Youth Fundraiser Luncheon
DESCRIPTION:
URL:https://fbccrystalsprings.com/event-old/youth-fundraiser-luncheon-2/
END:VEVENT
BEGIN:VEVENT
DTSTART;VALUE=DATE:20230317
DTEND;VALUE=DATE:20230318
DTSTAMP:20260424T050029
CREATED:20230219T212100Z
LAST-MODIFIED:20230219T212100Z
UID:3400-1679011200-1679097599@fbccrystalsprings.com
SUMMARY:Saint Patrick's Day
DESCRIPTION:
URL:https://fbccrystalsprings.com/event-old/saint-patricks-day/
END:VEVENT
BEGIN:VEVENT
DTSTART;VALUE=DATE:20230315
DTEND;VALUE=DATE:20230316
DTSTAMP:20260424T050029
CREATED:20230219T211121Z
LAST-MODIFIED:20230219T211121Z
UID:3389-1678838400-1678924799@fbccrystalsprings.com
SUMMARY:Spring Break - No Awana
DESCRIPTION:
URL:https://fbccrystalsprings.com/event-old/spring-break-no-awana/
END:VEVENT
BEGIN:VEVENT
DTSTART;TZID=UTC:20230313T183000
DTEND;TZID=UTC:20230313T200000
DTSTAMP:20260424T050029
CREATED:20230219T212629Z
LAST-MODIFIED:20230219T212629Z
UID:3407-1678732200-1678737600@fbccrystalsprings.com
SUMMARY:Baptist Men's Rally\, Highland\, Supper
DESCRIPTION:
URL:https://fbccrystalsprings.com/event-old/baptist-mens-rally-highland-supper-2/
END:VEVENT
BEGIN:VEVENT
DTSTART;TZID=UTC:20230313T183000
DTEND;TZID=UTC:20230313T193000
DTSTAMP:20260424T050029
CREATED:20230222T232928Z
LAST-MODIFIED:20230222T232928Z
UID:3443-1678732200-1678735800@fbccrystalsprings.com
SUMMARY:Baptist Men’s Rally\, Highland\, Supper
DESCRIPTION:
URL:https://fbccrystalsprings.com/event-old/baptist-mens-rally-highland-supper-3/
END:VEVENT
BEGIN:VEVENT
DTSTART;TZID=UTC:20230313T183000
DTEND;TZID=UTC:20230313T193000
DTSTAMP:20260424T050029
CREATED:20230219T213034Z
LAST-MODIFIED:20230219T213046Z
UID:3417-1678732200-1678735800@fbccrystalsprings.com
SUMMARY:Missions in Motion\, ROC
DESCRIPTION:
URL:https://fbccrystalsprings.com/event-old/missions-in-motion-roc-2/
END:VEVENT
BEGIN:VEVENT
DTSTART;TZID=UTC:20230312T073000
DTEND;TZID=UTC:20230312T203000
DTSTAMP:20260424T050029
CREATED:20230219T212759Z
LAST-MODIFIED:20230219T212759Z
UID:3411-1678606200-1678653000@fbccrystalsprings.com
SUMMARY:Men's Breakfast
DESCRIPTION:
URL:https://fbccrystalsprings.com/event-old/mens-breakfast-4/
END:VEVENT
BEGIN:VEVENT
DTSTART;VALUE=DATE:20230312
DTEND;VALUE=DATE:20230313
DTSTAMP:20260424T050029
CREATED:20230219T212712Z
LAST-MODIFIED:20230219T212712Z
UID:3409-1678579200-1678665599@fbccrystalsprings.com
SUMMARY:Annie Armstrong Begins
DESCRIPTION:
URL:https://fbccrystalsprings.com/event-old/annie-armstrong-begins/
END:VEVENT
BEGIN:VEVENT
DTSTART;VALUE=DATE:20230311
DTEND;VALUE=DATE:20230312
DTSTAMP:20260424T050029
CREATED:20230219T213316Z
LAST-MODIFIED:20230219T213316Z
UID:3423-1678492800-1678579199@fbccrystalsprings.com
SUMMARY:Music Suite Reserved
DESCRIPTION:
URL:https://fbccrystalsprings.com/event-old/music-suite-reserved-3/
END:VEVENT
BEGIN:VEVENT
DTSTART;VALUE=DATE:20230309
DTEND;VALUE=DATE:20230310
DTSTAMP:20260424T050029
CREATED:20230222T232813Z
LAST-MODIFIED:20230222T232813Z
UID:3441-1678320000-1678406399@fbccrystalsprings.com
SUMMARY:Senior Adults to MS Sports Hall of Fame
DESCRIPTION:
URL:https://fbccrystalsprings.com/event-old/senior-adults-to-ms-sports-hall-of-fame/
END:VEVENT
BEGIN:VEVENT
DTSTART;TZID=UTC:20230306T183000
DTEND;TZID=UTC:20230306T193000
DTSTAMP:20260424T050029
CREATED:20230219T213113Z
LAST-MODIFIED:20230219T213113Z
UID:3419-1678127400-1678131000@fbccrystalsprings.com
SUMMARY:Missions in Motion\, ROC
DESCRIPTION:
URL:https://fbccrystalsprings.com/event-old/missions-in-motion-roc-3/
END:VEVENT
BEGIN:VEVENT
DTSTART;VALUE=DATE:20230306
DTEND;VALUE=DATE:20230307
DTSTAMP:20260424T050029
CREATED:20230222T232710Z
LAST-MODIFIED:20230222T232710Z
UID:3439-1678060800-1678147199@fbccrystalsprings.com
SUMMARY:David Henderson 21st Anniversary!
DESCRIPTION:
URL:https://fbccrystalsprings.com/event-old/david-henderson-21st-anniversary/
END:VEVENT
BEGIN:VEVENT
DTSTART;VALUE=DATE:20230303
DTEND;VALUE=DATE:20230305
DTSTAMP:20260424T050029
CREATED:20230222T232536Z
LAST-MODIFIED:20230222T232536Z
UID:3437-1677801600-1677974399@fbccrystalsprings.com
SUMMARY:DNOW 2023
DESCRIPTION:
URL:https://fbccrystalsprings.com/event-old/dnow-2023/
END:VEVENT
BEGIN:VEVENT
DTSTART;TZID=UTC:20230226T114500
DTEND;TZID=UTC:20230226T130000
DTSTAMP:20260424T050029
CREATED:20230123T212941Z
LAST-MODIFIED:20230123T212941Z
UID:3333-1677411900-1677416400@fbccrystalsprings.com
SUMMARY:Casseroles & Bake Sale
DESCRIPTION:
URL:https://fbccrystalsprings.com/event-old/casseroles-bake-sale/
LOCATION:The ROC
END:VEVENT
BEGIN:VEVENT
DTSTART;TZID=UTC:20230223T093000
DTEND;TZID=UTC:20230223T223000
DTSTAMP:20260424T050029
CREATED:20230127T164937Z
LAST-MODIFIED:20230127T164937Z
UID:3363-1677144600-1677191400@fbccrystalsprings.com
SUMMARY:Senior Adult Brunch & Games\, ROC (Mardi Gras Themed)
DESCRIPTION:9:30AM—Senior Adult Brunch & Games \nThe ROCMardi Gras Themed!
URL:https://fbccrystalsprings.com/event-old/senior-adult-brunch-games-roc-mardi-gras-themed/
LOCATION:The ROC
END:VEVENT
BEGIN:VEVENT
DTSTART;TZID=UTC:20230219T113000
DTEND;TZID=UTC:20230219T123000
DTSTAMP:20260424T050029
CREATED:20230127T164057Z
LAST-MODIFIED:20230127T164254Z
UID:3349-1676806200-1676809800@fbccrystalsprings.com
SUMMARY:Youth Fundraiser Luncheon
DESCRIPTION:Youth Fundraiser Luncheon\, ROC after worship
URL:https://fbccrystalsprings.com/event-old/youth-fundraiser-luncheon/
LOCATION:The ROC
END:VEVENT
BEGIN:VEVENT
DTSTART;TZID=UTC:20230216T100000
DTEND;TZID=UTC:20230216T120000
DTSTAMP:20260424T050029
CREATED:20230127T164833Z
LAST-MODIFIED:20230127T164833Z
UID:3361-1676541600-1676548800@fbccrystalsprings.com
SUMMARY:Senior Adults to Co-Lin for 50+
DESCRIPTION:
URL:https://fbccrystalsprings.com/event-old/senior-adults-to-co-lin-for-50-2/
END:VEVENT
BEGIN:VEVENT
DTSTART;VALUE=DATE:20230214
DTEND;VALUE=DATE:20230215
DTSTAMP:20260424T050029
CREATED:20230109T185734Z
LAST-MODIFIED:20230109T185734Z
UID:3300-1676332800-1676419199@fbccrystalsprings.com
SUMMARY:Valentine's Day
DESCRIPTION:
URL:https://fbccrystalsprings.com/event-old/valentines-day/
END:VEVENT
BEGIN:VEVENT
DTSTART;TZID=UTC:20230212T083000
DTEND;TZID=UTC:20230212T103000
DTSTAMP:20260424T050029
CREATED:20230112T234304Z
LAST-MODIFIED:20230112T234304Z
UID:3316-1676190600-1676197800@fbccrystalsprings.com
SUMMARY:Fathers in the Field
DESCRIPTION:
URL:https://fbccrystalsprings.com/event-old/fathers-in-the-field/
END:VEVENT
BEGIN:VEVENT
DTSTART;TZID=UTC:20230212T083000
DTEND;TZID=UTC:20230212T093000
DTSTAMP:20260424T050029
CREATED:20230127T163740Z
LAST-MODIFIED:20230127T163740Z
UID:3345-1676190600-1676194200@fbccrystalsprings.com
SUMMARY:Joint Sunday School Breakfast
DESCRIPTION:
URL:https://fbccrystalsprings.com/event-old/joint-sunday-school-breakfast/
END:VEVENT
BEGIN:VEVENT
DTSTART;VALUE=DATE:20230212
DTEND;VALUE=DATE:20230213
DTSTAMP:20260424T050029
CREATED:20230127T163937Z
LAST-MODIFIED:20230127T163937Z
UID:3347-1676160000-1676246399@fbccrystalsprings.com
SUMMARY:Super Bowl Chili Cookoff
DESCRIPTION:Super Bowl Chili Cookoff in the ROC\, set up @ 4:30\, Meal @5\, Game @ 5:30
URL:https://fbccrystalsprings.com/event-old/super-bowl-chili-cookoff/
LOCATION:The ROC
END:VEVENT
END:VCALENDAR