BEGIN:VCALENDAR
VERSION:2.0
PRODID:-//FBC Crystal Springs - ECPv6.15.17.1//NONSGML v1.0//EN
CALSCALE:GREGORIAN
METHOD:PUBLISH
X-WR-CALNAME:FBC Crystal Springs
X-ORIGINAL-URL:https://fbccrystalsprings.com
X-WR-CALDESC:Events for FBC Crystal Springs
REFRESH-INTERVAL;VALUE=DURATION:PT1H
X-Robots-Tag:noindex
X-PUBLISHED-TTL:PT1H
BEGIN:VTIMEZONE
TZID:UTC
BEGIN:STANDARD
TZOFFSETFROM:+0000
TZOFFSETTO:+0000
TZNAME:UTC
DTSTART:20230101T000000
END:STANDARD
END:VTIMEZONE
BEGIN:VEVENT
DTSTART;VALUE=DATE:20240616
DTEND;VALUE=DATE:20240617
DTSTAMP:20260423T163131
CREATED:20240531T220756Z
LAST-MODIFIED:20240531T220756Z
UID:4339-1718496000-1718582399@fbccrystalsprings.com
SUMMARY:Father's Day
DESCRIPTION:
URL:https://fbccrystalsprings.com/event-old/fathers-day-2/
END:VEVENT
BEGIN:VEVENT
DTSTART;TZID=UTC:20240612T080000
DTEND;TZID=UTC:20240612T170000
DTSTAMP:20260423T163131
CREATED:20240531T220709Z
LAST-MODIFIED:20240531T220709Z
UID:4337-1718179200-1718211600@fbccrystalsprings.com
SUMMARY:NO SONKids
DESCRIPTION:
URL:https://fbccrystalsprings.com/event-old/no-sonkids/
END:VEVENT
BEGIN:VEVENT
DTSTART;VALUE=DATE:20240610
DTEND;VALUE=DATE:20240611
DTSTAMP:20260423T163131
CREATED:20240531T220632Z
LAST-MODIFIED:20240531T220632Z
UID:4335-1717977600-1718063999@fbccrystalsprings.com
SUMMARY:Monday Night Live: Hopewell
DESCRIPTION:
URL:https://fbccrystalsprings.com/event-old/monday-night-live-hopewell/
END:VEVENT
BEGIN:VEVENT
DTSTART;VALUE=DATE:20240608
DTEND;VALUE=DATE:20240616
DTSTAMP:20260423T163131
CREATED:20240426T124250Z
LAST-MODIFIED:20240429T193729Z
UID:4292-1717804800-1718495999@fbccrystalsprings.com
SUMMARY:Tennessee Mission Trip 2024
DESCRIPTION:
URL:https://fbccrystalsprings.com/event-old/tennessee-mission-trip-2024/
END:VEVENT
BEGIN:VEVENT
DTSTART;TZID=UTC:20240605T180000
DTEND;TZID=UTC:20240605T200000
DTSTAMP:20260423T163131
CREATED:20240531T220538Z
LAST-MODIFIED:20240531T220538Z
UID:4333-1717610400-1717617600@fbccrystalsprings.com
SUMMARY:SONKids Summer Nights
DESCRIPTION:Begins at 6pm!
URL:https://fbccrystalsprings.com/event-old/sonkids-summer-nights/
END:VEVENT
BEGIN:VEVENT
DTSTART;VALUE=DATE:20240603
DTEND;VALUE=DATE:20240604
DTSTAMP:20260423T163131
CREATED:20240531T220430Z
LAST-MODIFIED:20240531T220430Z
UID:4331-1717372800-1717459199@fbccrystalsprings.com
SUMMARY:Monday Night Live: Highland
DESCRIPTION:
URL:https://fbccrystalsprings.com/event-old/monday-night-live-highland/
END:VEVENT
BEGIN:VEVENT
DTSTART;VALUE=DATE:20240527
DTEND;VALUE=DATE:20240528
DTSTAMP:20260423T163131
CREATED:20240426T124052Z
LAST-MODIFIED:20240426T124052Z
UID:4288-1716768000-1716854399@fbccrystalsprings.com
SUMMARY:Church Closed for Memorial Day
DESCRIPTION:
URL:https://fbccrystalsprings.com/event-old/church-closed-for-memorial-day/
END:VEVENT
BEGIN:VEVENT
DTSTART;VALUE=DATE:20240526
DTEND;VALUE=DATE:20240527
DTSTAMP:20260423T163131
CREATED:20240426T123210Z
LAST-MODIFIED:20240426T123210Z
UID:4267-1716681600-1716767999@fbccrystalsprings.com
SUMMARY:Children's Church
DESCRIPTION:Beverly & Mindy
URL:https://fbccrystalsprings.com/event-old/childrens-church-4/
END:VEVENT
BEGIN:VEVENT
DTSTART;VALUE=DATE:20240519
DTEND;VALUE=DATE:20240520
DTSTAMP:20260423T163131
CREATED:20240426T123920Z
LAST-MODIFIED:20240426T123920Z
UID:4284-1716076800-1716163199@fbccrystalsprings.com
SUMMARY:Youth Fundraiser Luncheon
DESCRIPTION:Hamburger Steak\, Mashed Potatoes and Gravy\, Vegetables\, Roll\, Dessert
URL:https://fbccrystalsprings.com/event-old/youth-fundraiser-luncheon-4/
END:VEVENT
BEGIN:VEVENT
DTSTART;VALUE=DATE:20240519
DTEND;VALUE=DATE:20240520
DTSTAMP:20260423T163131
CREATED:20240426T123141Z
LAST-MODIFIED:20240426T123141Z
UID:4265-1716076800-1716163199@fbccrystalsprings.com
SUMMARY:Children's Church
DESCRIPTION:Tamra & Wes
URL:https://fbccrystalsprings.com/event-old/childrens-church-3/
END:VEVENT
BEGIN:VEVENT
DTSTART;VALUE=DATE:20240519
DTEND;VALUE=DATE:20240520
DTSTAMP:20260423T163131
CREATED:20240426T122940Z
LAST-MODIFIED:20240426T122940Z
UID:4259-1716076800-1716163199@fbccrystalsprings.com
SUMMARY:Mother's Day
DESCRIPTION:Summer Kick-off Celebration! \nFollowing Church Service!
URL:https://fbccrystalsprings.com/event-old/mothers-day-2/
END:VEVENT
BEGIN:VEVENT
DTSTART;TZID=UTC:20240512T093000
DTEND;TZID=UTC:20240512T120000
DTSTAMP:20260423T163131
CREATED:20240426T123802Z
LAST-MODIFIED:20240426T123802Z
UID:4280-1715506200-1715515200@fbccrystalsprings.com
SUMMARY:Class of 2024 Senior Recognition
DESCRIPTION:Breakfast: 5/12\, 9:30 AM \nRecognition: 5/12\, During Morning Worship
URL:https://fbccrystalsprings.com/event-old/class-of-2024-senior-recognition/
END:VEVENT
BEGIN:VEVENT
DTSTART;VALUE=DATE:20240512
DTEND;VALUE=DATE:20240513
DTSTAMP:20260423T163131
CREATED:20240426T123111Z
LAST-MODIFIED:20240426T123111Z
UID:4263-1715472000-1715558399@fbccrystalsprings.com
SUMMARY:Children's Church
DESCRIPTION:Julie & Janice
URL:https://fbccrystalsprings.com/event-old/childrens-church-2/
END:VEVENT
BEGIN:VEVENT
DTSTART;VALUE=DATE:20240510
DTEND;VALUE=DATE:20240511
DTSTAMP:20260423T163131
CREATED:20240426T123830Z
LAST-MODIFIED:20240426T123830Z
UID:4282-1715299200-1715385599@fbccrystalsprings.com
SUMMARY:Senior Supper
DESCRIPTION:Senior Supper with Brother Landon
URL:https://fbccrystalsprings.com/event-old/senior-supper/
END:VEVENT
BEGIN:VEVENT
DTSTART;TZID=UTC:20240508T180000
DTEND;TZID=UTC:20240508T190000
DTSTAMP:20260423T163131
CREATED:20240426T122854Z
LAST-MODIFIED:20240426T122854Z
UID:4257-1715191200-1715194800@fbccrystalsprings.com
SUMMARY:Awana Family Night
DESCRIPTION:Awards\, Food\, and Fellowship
URL:https://fbccrystalsprings.com/event-old/awana-family-night/
END:VEVENT
BEGIN:VEVENT
DTSTART;TZID=UTC:20240506T180000
DTEND;TZID=UTC:20240506T200000
DTSTAMP:20260423T163131
CREATED:20240426T122719Z
LAST-MODIFIED:20240426T122719Z
UID:4255-1715018400-1715025600@fbccrystalsprings.com
SUMMARY:Men's Rally
DESCRIPTION:
URL:https://fbccrystalsprings.com/event-old/mens-rally/
LOCATION:The ROC
END:VEVENT
BEGIN:VEVENT
DTSTART;VALUE=DATE:20240505
DTEND;VALUE=DATE:20240506
DTSTAMP:20260423T163131
CREATED:20240426T123042Z
LAST-MODIFIED:20240426T123042Z
UID:4261-1714867200-1714953599@fbccrystalsprings.com
SUMMARY:Children's Church
DESCRIPTION:Hailey & Scott
URL:https://fbccrystalsprings.com/event-old/childrens-church/
END:VEVENT
BEGIN:VEVENT
DTSTART;VALUE=DATE:20240504
DTEND;VALUE=DATE:20240505
DTSTAMP:20260423T163131
CREATED:20240329T142120Z
LAST-MODIFIED:20240329T142120Z
UID:4213-1714780800-1714867199@fbccrystalsprings.com
SUMMARY:ROC Reserved
DESCRIPTION:
URL:https://fbccrystalsprings.com/event-old/roc-reserved-17/
END:VEVENT
BEGIN:VEVENT
DTSTART;VALUE=DATE:20240430
DTEND;VALUE=DATE:20240501
DTSTAMP:20260423T163131
CREATED:20240329T142057Z
LAST-MODIFIED:20240329T142057Z
UID:4211-1714435200-1714521599@fbccrystalsprings.com
SUMMARY:Missions Fundraiser Golf Tournament
DESCRIPTION:
URL:https://fbccrystalsprings.com/event-old/missions-fundraiser-golf-tournament/
END:VEVENT
BEGIN:VEVENT
DTSTART;TZID=UTC:20240428T140000
DTEND;TZID=UTC:20240428T150000
DTSTAMP:20260423T163131
CREATED:20240329T142015Z
LAST-MODIFIED:20240329T142015Z
UID:4209-1714312800-1714316400@fbccrystalsprings.com
SUMMARY:Sanctuary Reserved
DESCRIPTION:
URL:https://fbccrystalsprings.com/event-old/sanctuary-reserved-7/
END:VEVENT
BEGIN:VEVENT
DTSTART;VALUE=DATE:20240427
DTEND;VALUE=DATE:20240428
DTSTAMP:20260423T163131
CREATED:20240329T141949Z
LAST-MODIFIED:20240329T141949Z
UID:4207-1714176000-1714262399@fbccrystalsprings.com
SUMMARY:Children’s Dept. - Mission Madness FBC Summit
DESCRIPTION:
URL:https://fbccrystalsprings.com/event-old/childrens-dept-mission-madness-fbc-summit/
END:VEVENT
BEGIN:VEVENT
DTSTART;VALUE=DATE:20240427
DTEND;VALUE=DATE:20240428
DTSTAMP:20260423T163131
CREATED:20240329T141921Z
LAST-MODIFIED:20240329T141921Z
UID:4205-1714176000-1714262399@fbccrystalsprings.com
SUMMARY:ROC & Sanctuary Reserved
DESCRIPTION:Reserved by CA Band / K. Jolly
URL:https://fbccrystalsprings.com/event-old/roc-sanctuary-reserved/
END:VEVENT
BEGIN:VEVENT
DTSTART;TZID=UTC:20240421T113000
DTEND;TZID=UTC:20240421T123000
DTSTAMP:20260423T163131
CREATED:20240329T141838Z
LAST-MODIFIED:20240329T141838Z
UID:4203-1713699000-1713702600@fbccrystalsprings.com
SUMMARY:Youth Fundraiser
DESCRIPTION:
URL:https://fbccrystalsprings.com/event-old/youth-fundraiser/
END:VEVENT
BEGIN:VEVENT
DTSTART;TZID=UTC:20240414T073000
DTEND;TZID=UTC:20240414T083000
DTSTAMP:20260423T163131
CREATED:20240329T141802Z
LAST-MODIFIED:20240329T141802Z
UID:4201-1713079800-1713083400@fbccrystalsprings.com
SUMMARY:Men's Breakfast
DESCRIPTION:
URL:https://fbccrystalsprings.com/event-old/mens-breakfast-9/
END:VEVENT
BEGIN:VEVENT
DTSTART;VALUE=DATE:20240413
DTEND;VALUE=DATE:20240414
DTSTAMP:20260423T163131
CREATED:20240329T141618Z
LAST-MODIFIED:20240329T141618Z
UID:4199-1712966400-1713052799@fbccrystalsprings.com
SUMMARY:Sanctuary Reserved
DESCRIPTION:Reserved by Music Club
URL:https://fbccrystalsprings.com/event-old/sanctuary-reserved-6/
END:VEVENT
BEGIN:VEVENT
DTSTART;TZID=UTC:20240412T190000
DTEND;TZID=UTC:20240412T200000
DTSTAMP:20260423T163131
CREATED:20240329T141540Z
LAST-MODIFIED:20240329T141540Z
UID:4195-1712948400-1712952000@fbccrystalsprings.com
SUMMARY:Deacon/Pastor/Wives Banquet
DESCRIPTION:Location: The ROC & Sanctuary
URL:https://fbccrystalsprings.com/event-old/deacon-pastor-wives-banquet/
END:VEVENT
BEGIN:VEVENT
DTSTART;VALUE=DATE:20240407
DTEND;VALUE=DATE:20240408
DTSTAMP:20260423T163131
CREATED:20240329T140823Z
LAST-MODIFIED:20240329T140823Z
UID:4187-1712448000-1712534399@fbccrystalsprings.com
SUMMARY:Happy Birthday\, Cyndi Bush!
DESCRIPTION:
URL:https://fbccrystalsprings.com/event-old/happy-birthday-cyndi-bush/
END:VEVENT
BEGIN:VEVENT
DTSTART;VALUE=DATE:20240405
DTEND;VALUE=DATE:20240406
DTSTAMP:20260423T163131
CREATED:20240301T134222Z
LAST-MODIFIED:20240301T134222Z
UID:4166-1712275200-1712361599@fbccrystalsprings.com
SUMMARY:A Grand Night (Musical Performance)
DESCRIPTION:
URL:https://fbccrystalsprings.com/event-old/a-grand-night-musical-performance/
END:VEVENT
BEGIN:VEVENT
DTSTART;TZID=UTC:20240401T183000
DTEND;TZID=UTC:20240401T193000
DTSTAMP:20260423T163131
CREATED:20240329T141014Z
LAST-MODIFIED:20240329T141014Z
UID:4191-1711996200-1711999800@fbccrystalsprings.com
SUMMARY:Missions in Motion
DESCRIPTION:Location: The ROC
URL:https://fbccrystalsprings.com/event-old/missions-in-motion-4/
END:VEVENT
BEGIN:VEVENT
DTSTART;VALUE=DATE:20240401
DTEND;VALUE=DATE:20240402
DTSTAMP:20260423T163131
CREATED:20240329T140913Z
LAST-MODIFIED:20240329T140913Z
UID:4189-1711929600-1712015999@fbccrystalsprings.com
SUMMARY:FBCK Closed - Easter Holiday
DESCRIPTION:
URL:https://fbccrystalsprings.com/event-old/fbck-closed-easter-holiday/
END:VEVENT
END:VCALENDAR