BEGIN:VCALENDAR
VERSION:2.0
PRODID:-//FBC Crystal Springs - ECPv6.15.17.1//NONSGML v1.0//EN
CALSCALE:GREGORIAN
METHOD:PUBLISH
X-WR-CALNAME:FBC Crystal Springs
X-ORIGINAL-URL:https://fbccrystalsprings.com
X-WR-CALDESC:Events for FBC Crystal Springs
REFRESH-INTERVAL;VALUE=DURATION:PT1H
X-Robots-Tag:noindex
X-PUBLISHED-TTL:PT1H
BEGIN:VTIMEZONE
TZID:UTC
BEGIN:STANDARD
TZOFFSETFROM:+0000
TZOFFSETTO:+0000
TZNAME:UTC
DTSTART:20220101T000000
END:STANDARD
END:VTIMEZONE
BEGIN:VEVENT
DTSTART;VALUE=DATE:20240216
DTEND;VALUE=DATE:20240218
DTSTAMP:20260423T214312
CREATED:20240126T002428Z
LAST-MODIFIED:20240126T002531Z
UID:4097-1708041600-1708214399@fbccrystalsprings.com
SUMMARY:ROC Reserved
DESCRIPTION:
URL:https://fbccrystalsprings.com/event-old/roc-reserved-15/
END:VEVENT
BEGIN:VEVENT
DTSTART;VALUE=DATE:20240215
DTEND;VALUE=DATE:20240216
DTSTAMP:20260423T214312
CREATED:20240126T002256Z
LAST-MODIFIED:20240126T002314Z
UID:4093-1707955200-1708041599@fbccrystalsprings.com
SUMMARY:Senior Adults: 50+
DESCRIPTION:Location: Co-Lin
URL:https://fbccrystalsprings.com/event-old/senior-adults-50/
END:VEVENT
BEGIN:VEVENT
DTSTART;TZID=UTC:20240211T170000
DTEND;TZID=UTC:20240211T190000
DTSTAMP:20260423T214312
CREATED:20240126T001743Z
LAST-MODIFIED:20240126T001743Z
UID:4081-1707670800-1707678000@fbccrystalsprings.com
SUMMARY:Chili Cookoff & Superbowl Fellowship
DESCRIPTION:
URL:https://fbccrystalsprings.com/event-old/chili-cookoff-superbowl-fellowship/
END:VEVENT
BEGIN:VEVENT
DTSTART;TZID=UTC:20240211T073000
DTEND;TZID=UTC:20240211T083000
DTSTAMP:20260423T214312
CREATED:20240126T001635Z
LAST-MODIFIED:20240126T001635Z
UID:4079-1707636600-1707640200@fbccrystalsprings.com
SUMMARY:Men's Breakfast
DESCRIPTION:
URL:https://fbccrystalsprings.com/event-old/mens-breakfast-8/
END:VEVENT
BEGIN:VEVENT
DTSTART;TZID=UTC:20240208T103000
DTEND;TZID=UTC:20240208T113000
DTSTAMP:20260423T214312
CREATED:20240126T002226Z
LAST-MODIFIED:20240126T002226Z
UID:4091-1707388200-1707391800@fbccrystalsprings.com
SUMMARY:Senior Adult Valentine Luncheon
DESCRIPTION:
URL:https://fbccrystalsprings.com/event-old/senior-adult-valentine-luncheon/
END:VEVENT
BEGIN:VEVENT
DTSTART;TZID=UTC:20240205T183000
DTEND;TZID=UTC:20240205T200000
DTSTAMP:20260423T214312
CREATED:20240126T002049Z
LAST-MODIFIED:20240126T002049Z
UID:4087-1707157800-1707163200@fbccrystalsprings.com
SUMMARY:Baptist Men's Rally
DESCRIPTION:Location: Zion Hill Baptist. Meal at 6:30pm & Meeting at 7pm.
URL:https://fbccrystalsprings.com/event-old/baptist-mens-rally/
END:VEVENT
BEGIN:VEVENT
DTSTART;VALUE=DATE:20231227
DTEND;VALUE=DATE:20231228
DTSTAMP:20260423T214312
CREATED:20231121T211327Z
LAST-MODIFIED:20231121T211327Z
UID:4005-1703635200-1703721599@fbccrystalsprings.com
SUMMARY:NO PM Services
DESCRIPTION:
URL:https://fbccrystalsprings.com/event-old/no-pm-services-4/
END:VEVENT
BEGIN:VEVENT
DTSTART;VALUE=DATE:20231225
DTEND;VALUE=DATE:20231227
DTSTAMP:20260423T214312
CREATED:20231121T211305Z
LAST-MODIFIED:20231121T211305Z
UID:4003-1703462400-1703635199@fbccrystalsprings.com
SUMMARY:Closed for Christmas
DESCRIPTION:
URL:https://fbccrystalsprings.com/event-old/closed-for-christmas/
END:VEVENT
BEGIN:VEVENT
DTSTART;VALUE=DATE:20231224
DTEND;VALUE=DATE:20231225
DTSTAMP:20260423T214312
CREATED:20231121T211231Z
LAST-MODIFIED:20231121T211231Z
UID:4001-1703376000-1703462399@fbccrystalsprings.com
SUMMARY:NO PM Services
DESCRIPTION:
URL:https://fbccrystalsprings.com/event-old/no-pm-services-3/
END:VEVENT
BEGIN:VEVENT
DTSTART;VALUE=DATE:20231220
DTEND;VALUE=DATE:20231221
DTSTAMP:20260423T214312
CREATED:20231128T213137Z
LAST-MODIFIED:20231128T213137Z
UID:4009-1703030400-1703116799@fbccrystalsprings.com
SUMMARY:Last Day for FBCK
DESCRIPTION:
URL:https://fbccrystalsprings.com/event-old/last-day-for-fbck/
END:VEVENT
BEGIN:VEVENT
DTSTART;VALUE=DATE:20231220
DTEND;VALUE=DATE:20231221
DTSTAMP:20260423T214312
CREATED:20231121T211207Z
LAST-MODIFIED:20231121T211207Z
UID:3999-1703030400-1703116799@fbccrystalsprings.com
SUMMARY:NO PM Services
DESCRIPTION:
URL:https://fbccrystalsprings.com/event-old/no-pm-services-2/
END:VEVENT
BEGIN:VEVENT
DTSTART;VALUE=DATE:20231218
DTEND;VALUE=DATE:20231219
DTSTAMP:20260423T214312
CREATED:20231121T211143Z
LAST-MODIFIED:20231121T211143Z
UID:3997-1702857600-1702943999@fbccrystalsprings.com
SUMMARY:ROC Reserved
DESCRIPTION:
URL:https://fbccrystalsprings.com/event-old/roc-reserved-14/
END:VEVENT
BEGIN:VEVENT
DTSTART;TZID=UTC:20231217T180000
DTEND;TZID=UTC:20231217T190000
DTSTAMP:20260423T214312
CREATED:20231121T211120Z
LAST-MODIFIED:20231121T211120Z
UID:3995-1702836000-1702839600@fbccrystalsprings.com
SUMMARY:Youth Christmas Party
DESCRIPTION:
URL:https://fbccrystalsprings.com/event-old/youth-christmas-party/
END:VEVENT
BEGIN:VEVENT
DTSTART;TZID=UTC:20231217T103000
DTEND;TZID=UTC:20231217T113000
DTSTAMP:20260423T214312
CREATED:20231121T211013Z
LAST-MODIFIED:20231121T211013Z
UID:3991-1702809000-1702812600@fbccrystalsprings.com
SUMMARY:Youth Lunch Fundraiser
DESCRIPTION:
URL:https://fbccrystalsprings.com/event-old/youth-lunch-fundraiser/
END:VEVENT
BEGIN:VEVENT
DTSTART;VALUE=DATE:20231216
DTEND;VALUE=DATE:20231217
DTSTAMP:20260423T214312
CREATED:20231121T210929Z
LAST-MODIFIED:20231121T210929Z
UID:3989-1702684800-1702771199@fbccrystalsprings.com
SUMMARY:ROC Reserved
DESCRIPTION:ROC RESERVED\n10am – 12am\nROC RESERVED\n12:30am – 4pm
URL:https://fbccrystalsprings.com/event-old/roc-reserved-12/
END:VEVENT
BEGIN:VEVENT
DTSTART;VALUE=DATE:20231214
DTEND;VALUE=DATE:20231216
DTSTAMP:20260423T214312
CREATED:20231121T210817Z
LAST-MODIFIED:20231121T210829Z
UID:3986-1702512000-1702684799@fbccrystalsprings.com
SUMMARY:ROC Reserved for Angel Tree Drop Off
DESCRIPTION:
URL:https://fbccrystalsprings.com/event-old/roc-reserved-for-angel-tree-drop-off/
END:VEVENT
BEGIN:VEVENT
DTSTART;VALUE=DATE:20231212
DTEND;VALUE=DATE:20231213
DTSTAMP:20260423T214312
CREATED:20231121T210649Z
LAST-MODIFIED:20231121T210649Z
UID:3984-1702339200-1702425599@fbccrystalsprings.com
SUMMARY:Sanctuary Reserved
DESCRIPTION:
URL:https://fbccrystalsprings.com/event-old/sanctuary-reserved-4/
END:VEVENT
BEGIN:VEVENT
DTSTART;VALUE=DATE:20231211
DTEND;VALUE=DATE:20231212
DTSTAMP:20260423T214312
CREATED:20231121T210616Z
LAST-MODIFIED:20231121T210616Z
UID:3982-1702252800-1702339199@fbccrystalsprings.com
SUMMARY:ROC Reserved
DESCRIPTION:
URL:https://fbccrystalsprings.com/event-old/roc-reserved-11/
END:VEVENT
BEGIN:VEVENT
DTSTART;TZID=UTC:20231210T180000
DTEND;TZID=UTC:20231210T190000
DTSTAMP:20260423T214312
CREATED:20231121T210549Z
LAST-MODIFIED:20231121T210549Z
UID:3980-1702231200-1702234800@fbccrystalsprings.com
SUMMARY:Christmas Program
DESCRIPTION:
URL:https://fbccrystalsprings.com/event-old/christmas-program/
END:VEVENT
BEGIN:VEVENT
DTSTART;TZID=UTC:20231210T073000
DTEND;TZID=UTC:20231210T083000
DTSTAMP:20260423T214312
CREATED:20231121T210514Z
LAST-MODIFIED:20231121T210514Z
UID:3978-1702193400-1702197000@fbccrystalsprings.com
SUMMARY:Men's Breakfast
DESCRIPTION:
URL:https://fbccrystalsprings.com/event-old/mens-breakfast-7/
END:VEVENT
BEGIN:VEVENT
DTSTART;TZID=UTC:20231209T180000
DTEND;TZID=UTC:20231209T190000
DTSTAMP:20260423T214312
CREATED:20231121T210429Z
LAST-MODIFIED:20231121T210429Z
UID:3976-1702144800-1702148400@fbccrystalsprings.com
SUMMARY:Open dress rehearsal for Christmas Program
DESCRIPTION:Located in the Sanctuary
URL:https://fbccrystalsprings.com/event-old/open-dress-rehearsal-for-christmas-program/
END:VEVENT
BEGIN:VEVENT
DTSTART;VALUE=DATE:20231209
DTEND;VALUE=DATE:20231210
DTSTAMP:20260423T214312
CREATED:20231121T210335Z
LAST-MODIFIED:20231121T210335Z
UID:3973-1702080000-1702166399@fbccrystalsprings.com
SUMMARY:ROC Reserved
DESCRIPTION:
URL:https://fbccrystalsprings.com/event-old/roc-reserved-10/
END:VEVENT
BEGIN:VEVENT
DTSTART;VALUE=DATE:20231208
DTEND;VALUE=DATE:20231209
DTSTAMP:20260423T214312
CREATED:20231121T210312Z
LAST-MODIFIED:20231121T210312Z
UID:3971-1701993600-1702079999@fbccrystalsprings.com
SUMMARY:Sanctuary Reserved
DESCRIPTION:
URL:https://fbccrystalsprings.com/event-old/sanctuary-reserved-3/
END:VEVENT
BEGIN:VEVENT
DTSTART;VALUE=DATE:20231208
DTEND;VALUE=DATE:20231209
DTSTAMP:20260423T214312
CREATED:20231121T210246Z
LAST-MODIFIED:20231121T210246Z
UID:3969-1701993600-1702079999@fbccrystalsprings.com
SUMMARY:ROC Reserved
DESCRIPTION:
URL:https://fbccrystalsprings.com/event-old/roc-reserved-9/
END:VEVENT
BEGIN:VEVENT
DTSTART;VALUE=DATE:20231207
DTEND;VALUE=DATE:20231208
DTSTAMP:20260423T214312
CREATED:20231121T210215Z
LAST-MODIFIED:20231121T210215Z
UID:3966-1701907200-1701993599@fbccrystalsprings.com
SUMMARY:Senior Adult Christmas Brunch
DESCRIPTION:
URL:https://fbccrystalsprings.com/event-old/senior-adult-christmas-brunch/
END:VEVENT
BEGIN:VEVENT
DTSTART;TZID=UTC:20231206T180000
DTEND;TZID=UTC:20231206T190000
DTSTAMP:20260423T214312
CREATED:20231121T210129Z
LAST-MODIFIED:20231121T210129Z
UID:3963-1701885600-1701889200@fbccrystalsprings.com
SUMMARY:Children’s Christmas Program
DESCRIPTION:Located in the ROC
URL:https://fbccrystalsprings.com/event-old/childrens-christmas-program/
END:VEVENT
BEGIN:VEVENT
DTSTART;TZID=UTC:20231206T180000
DTEND;TZID=UTC:20231206T190000
DTSTAMP:20260423T214312
CREATED:20231115T233059Z
LAST-MODIFIED:20231115T233059Z
UID:3929-1701885600-1701889200@fbccrystalsprings.com
SUMMARY:Christmas Parade Musical
DESCRIPTION:Hosted by FBC Crystal Springs Children’s Department in the ROC
URL:https://fbccrystalsprings.com/event-old/christmas-parade-musical/
END:VEVENT
BEGIN:VEVENT
DTSTART;TZID=UTC:20231204T183000
DTEND;TZID=UTC:20231204T193000
DTSTAMP:20260423T214312
CREATED:20231121T205944Z
LAST-MODIFIED:20231121T205944Z
UID:3961-1701714600-1701718200@fbccrystalsprings.com
SUMMARY:Missions in Motion
DESCRIPTION:At Betty Barrentine’s
URL:https://fbccrystalsprings.com/event-old/missions-in-motion-2/
END:VEVENT
BEGIN:VEVENT
DTSTART;TZID=UTC:20231203T160000
DTEND;TZID=UTC:20231203T170000
DTSTAMP:20260423T214312
CREATED:20231121T205840Z
LAST-MODIFIED:20231121T205840Z
UID:3959-1701619200-1701622800@fbccrystalsprings.com
SUMMARY:Choir
DESCRIPTION:
URL:https://fbccrystalsprings.com/event-old/choir/
END:VEVENT
BEGIN:VEVENT
DTSTART;VALUE=DATE:20231123
DTEND;VALUE=DATE:20231125
DTSTAMP:20260423T214312
CREATED:20231110T212220Z
LAST-MODIFIED:20231110T212220Z
UID:3916-1700697600-1700870399@fbccrystalsprings.com
SUMMARY:Office Closed for Thanksgiving
DESCRIPTION:
URL:https://fbccrystalsprings.com/event-old/office-closed-for-thanksgiving/
END:VEVENT
END:VCALENDAR