BEGIN:VCALENDAR
VERSION:2.0
PRODID:-//FBC Crystal Springs - ECPv6.15.17.1//NONSGML v1.0//EN
CALSCALE:GREGORIAN
METHOD:PUBLISH
X-ORIGINAL-URL:https://fbccrystalsprings.com
X-WR-CALDESC:Events for FBC Crystal Springs
REFRESH-INTERVAL;VALUE=DURATION:PT1H
X-Robots-Tag:noindex
X-PUBLISHED-TTL:PT1H
BEGIN:VTIMEZONE
TZID:UTC
BEGIN:STANDARD
TZOFFSETFROM:+0000
TZOFFSETTO:+0000
TZNAME:UTC
DTSTART:20220101T000000
END:STANDARD
END:VTIMEZONE
BEGIN:VEVENT
DTSTART;VALUE=DATE:20231207
DTEND;VALUE=DATE:20231208
DTSTAMP:20260423T235110
CREATED:20231121T210215Z
LAST-MODIFIED:20231121T210215Z
UID:3966-1701907200-1701993599@fbccrystalsprings.com
SUMMARY:Senior Adult Christmas Brunch
DESCRIPTION:
URL:https://fbccrystalsprings.com/event-old/senior-adult-christmas-brunch/
END:VEVENT
BEGIN:VEVENT
DTSTART;TZID=UTC:20231206T180000
DTEND;TZID=UTC:20231206T190000
DTSTAMP:20260423T235110
CREATED:20231121T210129Z
LAST-MODIFIED:20231121T210129Z
UID:3963-1701885600-1701889200@fbccrystalsprings.com
SUMMARY:Children’s Christmas Program
DESCRIPTION:Located in the ROC
URL:https://fbccrystalsprings.com/event-old/childrens-christmas-program/
END:VEVENT
BEGIN:VEVENT
DTSTART;TZID=UTC:20231206T180000
DTEND;TZID=UTC:20231206T190000
DTSTAMP:20260423T235110
CREATED:20231115T233059Z
LAST-MODIFIED:20231115T233059Z
UID:3929-1701885600-1701889200@fbccrystalsprings.com
SUMMARY:Christmas Parade Musical
DESCRIPTION:Hosted by FBC Crystal Springs Children’s Department in the ROC
URL:https://fbccrystalsprings.com/event-old/christmas-parade-musical/
END:VEVENT
BEGIN:VEVENT
DTSTART;TZID=UTC:20231204T183000
DTEND;TZID=UTC:20231204T193000
DTSTAMP:20260423T235110
CREATED:20231121T205944Z
LAST-MODIFIED:20231121T205944Z
UID:3961-1701714600-1701718200@fbccrystalsprings.com
SUMMARY:Missions in Motion
DESCRIPTION:At Betty Barrentine’s
URL:https://fbccrystalsprings.com/event-old/missions-in-motion-2/
END:VEVENT
BEGIN:VEVENT
DTSTART;TZID=UTC:20231203T160000
DTEND;TZID=UTC:20231203T170000
DTSTAMP:20260423T235110
CREATED:20231121T205840Z
LAST-MODIFIED:20231121T205840Z
UID:3959-1701619200-1701622800@fbccrystalsprings.com
SUMMARY:Choir
DESCRIPTION:
URL:https://fbccrystalsprings.com/event-old/choir/
END:VEVENT
BEGIN:VEVENT
DTSTART;VALUE=DATE:20231123
DTEND;VALUE=DATE:20231125
DTSTAMP:20260423T235110
CREATED:20231110T212220Z
LAST-MODIFIED:20231110T212220Z
UID:3916-1700697600-1700870399@fbccrystalsprings.com
SUMMARY:Office Closed for Thanksgiving
DESCRIPTION:
URL:https://fbccrystalsprings.com/event-old/office-closed-for-thanksgiving/
END:VEVENT
BEGIN:VEVENT
DTSTART;VALUE=DATE:20231122
DTEND;VALUE=DATE:20231123
DTSTAMP:20260423T235110
CREATED:20231110T212145Z
LAST-MODIFIED:20231110T212145Z
UID:3913-1700611200-1700697599@fbccrystalsprings.com
SUMMARY:NO PM Services
DESCRIPTION:
URL:https://fbccrystalsprings.com/event-old/no-pm-services/
END:VEVENT
BEGIN:VEVENT
DTSTART;TZID=UTC:20231121T080000
DTEND;TZID=UTC:20231121T170000
DTSTAMP:20260423T235110
CREATED:20231121T211048Z
LAST-MODIFIED:20231121T211048Z
UID:3993-1700553600-1700586000@fbccrystalsprings.com
SUMMARY:ROC Reserved
DESCRIPTION:Reserved from 12pm – 4pm
URL:https://fbccrystalsprings.com/event-old/roc-reserved-13/
END:VEVENT
BEGIN:VEVENT
DTSTART;TZID=UTC:20231119T103000
DTEND;TZID=UTC:20231119T113000
DTSTAMP:20260423T235110
CREATED:20231110T212119Z
LAST-MODIFIED:20231110T212119Z
UID:3911-1700389800-1700393400@fbccrystalsprings.com
SUMMARY:Youth Fundraiser Lunch & Agape Casserole Sale
DESCRIPTION:
URL:https://fbccrystalsprings.com/event-old/youth-fundraiser-lunch-agape-casserole-sale/
END:VEVENT
BEGIN:VEVENT
DTSTART;TZID=UTC:20231116T103000
DTEND;TZID=UTC:20231116T113000
DTSTAMP:20260423T235110
CREATED:20231110T212007Z
LAST-MODIFIED:20231110T212007Z
UID:3909-1700130600-1700134200@fbccrystalsprings.com
SUMMARY:Senior Adult Joy Thanksgiving Luncheon
DESCRIPTION:Home-bound meal deliveries to follow
URL:https://fbccrystalsprings.com/event-old/senior-adult-joy-thanksgiving-luncheon/
END:VEVENT
BEGIN:VEVENT
DTSTART;TZID=UTC:20231115T090000
DTEND;TZID=UTC:20231115T100000
DTSTAMP:20260423T235110
CREATED:20231110T211600Z
LAST-MODIFIED:20231110T211600Z
UID:3907-1700038800-1700042400@fbccrystalsprings.com
SUMMARY:ROC Decorated for Thanksgiving Luncheon
DESCRIPTION:
URL:https://fbccrystalsprings.com/event-old/roc-decorated-for-thanksgiving-luncheon/
END:VEVENT
BEGIN:VEVENT
DTSTART;TZID=UTC:20231112T073000
DTEND;TZID=UTC:20231112T203000
DTSTAMP:20260423T235110
CREATED:20231110T211448Z
LAST-MODIFIED:20231110T211448Z
UID:3905-1699774200-1699821000@fbccrystalsprings.com
SUMMARY:Men's Breakfast
DESCRIPTION:
URL:https://fbccrystalsprings.com/event-old/mens-breakfast-6/
END:VEVENT
BEGIN:VEVENT
DTSTART;VALUE=DATE:20231111
DTEND;VALUE=DATE:20231112
DTSTAMP:20260423T235110
CREATED:20231110T211249Z
LAST-MODIFIED:20231110T211249Z
UID:3903-1699660800-1699747199@fbccrystalsprings.com
SUMMARY:Sanctuary Reserverd - McDowell Music Club
DESCRIPTION:
URL:https://fbccrystalsprings.com/event-old/sanctuary-reserverd-mcdowell-music-club/
END:VEVENT
BEGIN:VEVENT
DTSTART;VALUE=DATE:20230723
DTEND;VALUE=DATE:20230724
DTSTAMP:20260423T235110
CREATED:20230709T211555Z
LAST-MODIFIED:20230709T211616Z
UID:3777-1690070400-1690156799@fbccrystalsprings.com
SUMMARY:Ray Howard's 100th Birthday
DESCRIPTION:
URL:https://fbccrystalsprings.com/event-old/ray-howards-100th-birthday/
END:VEVENT
BEGIN:VEVENT
DTSTART;TZID=UTC:20230706T103000
DTEND;TZID=UTC:20230706T120000
DTSTAMP:20260423T235110
CREATED:20230630T111918Z
LAST-MODIFIED:20230630T111918Z
UID:3738-1688639400-1688644800@fbccrystalsprings.com
SUMMARY:Picnic in the ROC
DESCRIPTION:
URL:https://fbccrystalsprings.com/event-old/picnic-in-the-roc/
END:VEVENT
BEGIN:VEVENT
DTSTART;VALUE=DATE:20230618
DTEND;VALUE=DATE:20230619
DTSTAMP:20260423T235110
CREATED:20230526T130951Z
LAST-MODIFIED:20230526T130951Z
UID:3688-1687046400-1687132799@fbccrystalsprings.com
SUMMARY:Father's Day
DESCRIPTION:
URL:https://fbccrystalsprings.com/event-old/fathers-day/
END:VEVENT
BEGIN:VEVENT
DTSTART;VALUE=DATE:20230605
DTEND;VALUE=DATE:20230610
DTSTAMP:20260423T235110
CREATED:20230406T185639Z
LAST-MODIFIED:20230406T185639Z
UID:3542-1685923200-1686355199@fbccrystalsprings.com
SUMMARY:VBS 2023 - Twist & Turns
DESCRIPTION:VBS 2023 will take place from June 5th to June 9th. Volunteers needed! Contact Tamra Madden for more information.
URL:https://fbccrystalsprings.com/event-old/vbs-2023-twist-turns/
END:VEVENT
BEGIN:VEVENT
DTSTART;VALUE=DATE:20230529
DTEND;VALUE=DATE:20230530
DTSTAMP:20260423T235110
CREATED:20230426T214327Z
LAST-MODIFIED:20230426T214327Z
UID:3583-1685318400-1685404799@fbccrystalsprings.com
SUMMARY:Office Closed for Memorial Day
DESCRIPTION:Office Closed for Memorial\nDay
URL:https://fbccrystalsprings.com/event-old/office-closed-for-memorial-day/
END:VEVENT
BEGIN:VEVENT
DTSTART;TZID=UTC:20230521T113000
DTEND;TZID=UTC:20230521T123000
DTSTAMP:20260423T235110
CREATED:20230426T214014Z
LAST-MODIFIED:20230426T214014Z
UID:3576-1684668600-1684672200@fbccrystalsprings.com
SUMMARY:Youth Luncheon Fundraiser
DESCRIPTION:
URL:https://fbccrystalsprings.com/event-old/youth-luncheon-fundraiser/
END:VEVENT
BEGIN:VEVENT
DTSTART;VALUE=DATE:20230520
DTEND;VALUE=DATE:20230521
DTSTAMP:20260423T235110
CREATED:20230426T214843Z
LAST-MODIFIED:20230426T214843Z
UID:3600-1684540800-1684627199@fbccrystalsprings.com
SUMMARY:Sanctuary Reserved
DESCRIPTION:Sanctuary Reserved
URL:https://fbccrystalsprings.com/event-old/sanctuary-reserved-2/
END:VEVENT
BEGIN:VEVENT
DTSTART;TZID=UTC:20230518T183000
DTEND;TZID=UTC:20230518T183000
DTSTAMP:20260423T235110
CREATED:20230426T214659Z
LAST-MODIFIED:20230426T214659Z
UID:3593-1684434600-1684434600@fbccrystalsprings.com
SUMMARY:FBCK Graduation
DESCRIPTION:FBCK Graduation
URL:https://fbccrystalsprings.com/event-old/fbck-graduation/
END:VEVENT
BEGIN:VEVENT
DTSTART;TZID=UTC:20230516T190000
DTEND;TZID=UTC:20230516T190000
DTSTAMP:20260423T235110
CREATED:20230426T214444Z
LAST-MODIFIED:20230426T214444Z
UID:3585-1684263600-1684263600@fbccrystalsprings.com
SUMMARY:Assoc. Spring Meeting\, Gallman
DESCRIPTION:Assoc. Spring\nMeeting\, Gallman
URL:https://fbccrystalsprings.com/event-old/assoc-spring-meeting-gallman-2/
END:VEVENT
BEGIN:VEVENT
DTSTART;TZID=UTC:20230514T073000
DTEND;TZID=UTC:20230514T080000
DTSTAMP:20260423T235110
CREATED:20230426T213733Z
LAST-MODIFIED:20230426T213733Z
UID:3574-1684049400-1684051200@fbccrystalsprings.com
SUMMARY:Men's Breakfast
DESCRIPTION:
URL:https://fbccrystalsprings.com/event-old/mens-breakfast-5/
END:VEVENT
BEGIN:VEVENT
DTSTART;VALUE=DATE:20230514
DTEND;VALUE=DATE:20230515
DTSTAMP:20260423T235110
CREATED:20230426T213632Z
LAST-MODIFIED:20230426T213632Z
UID:3572-1684022400-1684108799@fbccrystalsprings.com
SUMMARY:Mother's Day
DESCRIPTION:
URL:https://fbccrystalsprings.com/event-old/mothers-day/
END:VEVENT
BEGIN:VEVENT
DTSTART;TZID=UTC:20230513T080000
DTEND;TZID=UTC:20230513T170000
DTSTAMP:20260423T235110
CREATED:20230426T214815Z
LAST-MODIFIED:20230426T214815Z
UID:3597-1683964800-1683997200@fbccrystalsprings.com
SUMMARY:CLEANUP DAY AROUND THE CHURCH CAMPUS
DESCRIPTION:CLEANUP DAY\nAROUND THE\nCHURCH CAMPUS
URL:https://fbccrystalsprings.com/event-old/cleanup-day-around-the-church-campus/
END:VEVENT
BEGIN:VEVENT
DTSTART;VALUE=DATE:20230511
DTEND;VALUE=DATE:20230512
DTSTAMP:20260423T235110
CREATED:20230426T214607Z
LAST-MODIFIED:20230426T214607Z
UID:3590-1683763200-1683849599@fbccrystalsprings.com
SUMMARY:Senior Adult Brunch & Games
DESCRIPTION:Senior Adult Brunch\n& Games
URL:https://fbccrystalsprings.com/event-old/senior-adult-brunch-games/
END:VEVENT
BEGIN:VEVENT
DTSTART;TZID=UTC:20230510T180000
DTEND;TZID=UTC:20230510T200000
DTSTAMP:20260423T235110
CREATED:20230406T184928Z
LAST-MODIFIED:20230406T184928Z
UID:3533-1683741600-1683748800@fbccrystalsprings.com
SUMMARY:Family Night - Awana
DESCRIPTION:Awana Awards\, Food\, Fun\, and Fellowship.
URL:https://fbccrystalsprings.com/event-old/family-night-awana/
END:VEVENT
BEGIN:VEVENT
DTSTART;TZID=UTC:20230508T150000
DTEND;TZID=UTC:20230508T150000
DTSTAMP:20260423T235110
CREATED:20230426T214244Z
LAST-MODIFIED:20230426T214244Z
UID:3581-1683558000-1683558000@fbccrystalsprings.com
SUMMARY:ROC Reserved
DESCRIPTION:
URL:https://fbccrystalsprings.com/event-old/roc-reserved-7/
END:VEVENT
BEGIN:VEVENT
DTSTART;VALUE=DATE:20230506
DTEND;VALUE=DATE:20230507
DTSTAMP:20260423T235110
CREATED:20230426T214743Z
LAST-MODIFIED:20230426T214743Z
UID:3595-1683331200-1683417599@fbccrystalsprings.com
SUMMARY:ROC-Reserved
DESCRIPTION:
URL:https://fbccrystalsprings.com/event-old/roc-reserved-8/
END:VEVENT
BEGIN:VEVENT
DTSTART;VALUE=DATE:20230504
DTEND;VALUE=DATE:20230505
DTSTAMP:20260423T235110
CREATED:20230426T214536Z
LAST-MODIFIED:20230426T214536Z
UID:3587-1683158400-1683244799@fbccrystalsprings.com
SUMMARY:Senior Adults Eudora Welty House & Gardens
DESCRIPTION:Senior Adults Eudora\nWelty House &\nGardens
URL:https://fbccrystalsprings.com/event-old/senior-adults-eudora-welty-house-gardens/
END:VEVENT
END:VCALENDAR